BEGIN:VCALENDAR
VERSION:2.0
PRODID:-//ChamberMaster//Event Calendar 2.0//EN
METHOD:PUBLISH
X-PUBLISHED-TTL:P3D
REFRESH-INTERVAL:P3D
CALSCALE:GREGORIAN
BEGIN:VEVENT
DTSTART:20231017T160000Z
DTEND:20231022T000000Z
X-MICROSOFT-CDO-ALLDAYEVENT:FALSE
SUMMARY:Compassion Cultivation Training©
DESCRIPTION:CCT  is a six-step program designed at Stanford University to develop the qualities of compassion\, empathy\, and kindness for oneself and others. It is taught around the world by certified teachers.I currently offer the program online\, taught over eight weeks. I am also available to facilitate 60 or 90-minute sessions on Compassion Cultivation Training.
X-ALT-DESC;FMTTYPE=text/html:CCT&trade\; is a six-step program designed at Stanford University to develop the qualities of compassion\, empathy\, and kindness for oneself and others. It is taught around the world by certified teachers.I currently offer the program online\, taught over eight weeks. I am also available to facilitate 60 or 90-minute sessions on Compassion Cultivation Training.
LOCATION:St John's\, Newfoundland\, Canada
UID:e.2712.11324
SEQUENCE:3
DTSTAMP:20260419T224443Z
URL:http://pvchamberaz.chambermaster.com/events/details/compassion-cultivation-training-11324
END:VEVENT

END:VCALENDAR
