BEGIN:VCALENDAR
VERSION:2.0
PRODID:-//ChamberMaster//Event Calendar 2.0//EN
METHOD:PUBLISH
X-PUBLISHED-TTL:P3D
REFRESH-INTERVAL:P3D
CALSCALE:GREGORIAN
BEGIN:VEVENT
DTSTART:20230221T170000Z
DTEND:20230221T180000Z
X-MICROSOFT-CDO-ALLDAYEVENT:FALSE
SUMMARY:Cybersecurity
DESCRIPTION:Learn to protect you and your business by Jon Haas Cybersecurity is in the news and yet it can seem to have nothing to do with you and me in our daily lives. Yet\, today our small businesses have a complex digital footprint\; on the web\, via email\, online shopping and banking\, quickbooks\, and more. More of our life is accessible and stored "in the cloud". This talk brings this important topic down to an actionable level for you and your work. What is at risk and what steps can enhance your cybersecurity? Anyone with a smartphone and email is encouraged to attend. Speaker: Jon Haass Co-Sponsor(s): SCORE Northern Arizona and Yavapai County Free Library District Register at: https://clients.azsbdc.net/workshop.aspx?ekey=100430013
X-ALT-DESC;FMTTYPE=text/html:Learn to protect you and your business by Jon Haas Cybersecurity is in the news and yet it can seem to have nothing to do with you and me in our daily lives. Yet\, today our small businesses have a complex digital footprint\; on the web\, via email\, online shopping and banking\, quickbooks\, and more. More of our life is accessible and stored &ldquo\;in the cloud&rdquo\;. This talk brings this important topic down to an actionable level for you and your work. What is at risk and what steps can enhance your cybersecurity? Anyone with a smartphone and email is encouraged to attend. Speaker: Jon Haass Co-Sponsor(s): SCORE Northern Arizona and Yavapai County Free Library District Register at: https://clients.azsbdc.net/workshop.aspx?ekey=100430013
LOCATION:Virtually & In-Person - Yavapai College Prescott Campus\, 1100 E. Sheldon St. Prescott AZ 86301 Room 03-119
UID:e.2712.11029
SEQUENCE:3
DTSTAMP:20260420T165246Z
URL:http://pvchamberaz.chambermaster.com/events/details/cybersecurity-11029
END:VEVENT

END:VCALENDAR
