BEGIN:VCALENDAR
VERSION:2.0
PRODID:-//ChamberMaster//Event Calendar 2.0//EN
METHOD:PUBLISH
X-PUBLISHED-TTL:P3D
REFRESH-INTERVAL:P3D
CALSCALE:GREGORIAN
BEGIN:VEVENT
DTSTART:20220519T210000Z
DTEND:20220519T230000Z
X-MICROSOFT-CDO-ALLDAYEVENT:FALSE
SUMMARY:DREAM Training
DESCRIPTION:Do you constantly go to networking events and just end up with a stack of business cards and no real leads or referrals? Then you need to attend the DREAM Mastery Training where we will teach you the new way to network that will get you quality referrals and quality results. The next training will be held via zoom. D.R.E.A.M. Mastery Training is a training program for professionals who network. We want to modernize the way you think about networking\, and change the way you network. Maximizing your relationship development for the most powerful referral partners. D.R.E.A.M. - Developing Referrals & Elevating A-Team Mastery
X-ALT-DESC;FMTTYPE=text/html:Do you constantly go to networking events and just end up with a stack of business cards and no real leads or referrals? Then you need to attend the DREAM Mastery Training where we will teach you the new way to network that will get you quality referrals and quality results. The next training will be held via zoom. D.R.E.A.M. Mastery Training is a training program for professionals who network. We want to modernize the way you think about networking\, and change the way you network. Maximizing your relationship development for the most powerful referral partners. D.R.E.A.M. - Developing Referrals &amp\; Elevating A-Team Mastery
LOCATION:Online via zoom
UID:e.2712.10545
SEQUENCE:3
DTSTAMP:20260425T031700Z
URL:http://pvchamberaz.chambermaster.com/events/details/dream-training-10545
END:VEVENT

END:VCALENDAR
