BEGIN:VCALENDAR
VERSION:2.0
PRODID:-//ChamberMaster//Event Calendar 2.0//EN
METHOD:PUBLISH
X-PUBLISHED-TTL:P3D
REFRESH-INTERVAL:P3D
CALSCALE:GREGORIAN
BEGIN:VEVENT
DTSTART:20230101T023000Z
DTEND:20230101T040000Z
X-MICROSOFT-CDO-ALLDAYEVENT:FALSE
SUMMARY:Meaningful Resolutions
DESCRIPTION:Instead of making the same old resolutions\, bring a new dimension to your life through meditation. By learning how to meditate and by bringing meaningful ways of thinking into daily activities\, you can experience greater happiness and an increasing sense of spiritual purpose. Finish your year in a positive way with this public talk and meditation. The talk and meditation will be followed by a non-alcoholic toast. Everyone welcome!
X-ALT-DESC;FMTTYPE=text/html:Instead of making the same old resolutions\, bring a new dimension to your life through meditation. By learning how to meditate and by bringing meaningful ways of thinking into daily activities\, you can experience greater happiness and an increasing sense of spiritual purpose. Finish your year in a positive way with this public talk and meditation. The talk and meditation will be followed by a non-alcoholic toast. Everyone welcome!
LOCATION:International Kadampa Retreat Center Grand Canyon 6701 East Mountain Ranch Road\, Williams\, AZ\, 86046
UID:e.2712.10898
SEQUENCE:3
DTSTAMP:20260421T213433Z
URL:http://pvchamberaz.chambermaster.com/events/details/meaningful-resolutions-10898
END:VEVENT

END:VCALENDAR
