BEGIN:VCALENDAR
VERSION:2.0
PRODID:-//ChamberMaster//Event Calendar 2.0//EN
METHOD:PUBLISH
X-PUBLISHED-TTL:P3D
REFRESH-INTERVAL:P3D
CALSCALE:GREGORIAN
BEGIN:VEVENT
DTSTART:20230503T010000Z
DTEND:20230503T050000Z
X-MICROSOFT-CDO-ALLDAYEVENT:FALSE
SUMMARY:Riverdance
DESCRIPTION:Riverdance\, as you've never seen it before! A powerful and stirring reinvention of this beloved favorite celebrated the world over for its Grammy award-winning score and the thrilling energy and passion of its Irish and international dance.
X-ALT-DESC;FMTTYPE=text/html:Riverdance\, as you&rsquo\;ve never seen it before! A powerful and stirring reinvention of this beloved favorite celebrated the world over for its Grammy award-winning score and the thrilling energy and passion of its Irish and international dance.
LOCATION:Findlay Toyota Center Prescott Valley\, AZ
UID:e.2712.11068
SEQUENCE:3
DTSTAMP:20260421T073446Z
URL:http://pvchamberaz.chambermaster.com/events/details/riverdance-11068
END:VEVENT

END:VCALENDAR
