BEGIN:VCALENDAR
VERSION:2.0
PRODID:-//ChamberMaster//Event Calendar 2.0//EN
METHOD:PUBLISH
X-PUBLISHED-TTL:P3D
REFRESH-INTERVAL:P3D
CALSCALE:GREGORIAN
BEGIN:VEVENT
DTSTART:20230220T020000Z
DTEND:20230220T050000Z
X-MICROSOFT-CDO-ALLDAYEVENT:FALSE
SUMMARY:Styx
DESCRIPTION:Legendary rock band Styx\, best known for the hit songs "Lady\," "Come Sail Away\," "Too Much Time on My Hands" and "Renegade\," will take the stage at the Findlay Toyota Center on Sunday\, February 19 at 7:00PM
X-ALT-DESC;FMTTYPE=text/html:Legendary rock band Styx\, best known for the hit songs &ldquo\;Lady\,&rdquo\; &ldquo\;Come Sail Away\,&rdquo\; &ldquo\;Too Much Time on My Hands&rdquo\; and &ldquo\;Renegade\,&rdquo\; will take the stage at the Findlay Toyota Center on Sunday\, February 19 at 7:00PM
LOCATION:Findlay Toyota Center 3201 N. Main St. Prescott Valley AZ
UID:e.2712.11059
SEQUENCE:3
DTSTAMP:20260426T000525Z
URL:http://pvchamberaz.chambermaster.com/events/details/styx-11059
END:VEVENT

END:VCALENDAR
